BEGIN:VCALENDAR
VERSION:2.0
PRODID:Imitheme.com
BEGIN:VEVENT
UID:20200302T182902-1117514190
DTSTAMP:20200302T182902
DTSTART:20200228T235900
DTEND:20200228T235900
SUMMARY:Wounded by Shame, Healed By Grace
LOCATION:11 Mortimer Road
Berri SA 5343
DESCRIPTION: This course by Jeff VanVonderen from The National Association for Christian Recovery has proven to be excellent in our church for assisting people to deal with shame &amp; to step into the freedom that Christ promises. Our next course will be a women's only series, and run in 2 intensives over...
END:VEVENT
END:VCALENDAR
